BEGIN:VCALENDAR
VERSION:2.0
PRODID:-//Scotch Oakburn College Launceston Tasmania - ECPv6.15.17.1//NONSGML v1.0//EN
CALSCALE:GREGORIAN
METHOD:PUBLISH
X-WR-CALNAME:Scotch Oakburn College Launceston Tasmania
X-ORIGINAL-URL:https://www.soc.tas.edu.au
X-WR-CALDESC:Events for Scotch Oakburn College Launceston Tasmania
REFRESH-INTERVAL;VALUE=DURATION:PT1H
X-Robots-Tag:noindex
X-PUBLISHED-TTL:PT1H
BEGIN:VTIMEZONE
TZID:Australia/Hobart
BEGIN:STANDARD
TZOFFSETFROM:+1100
TZOFFSETTO:+1000
TZNAME:AEST
DTSTART:20250405T160000
END:STANDARD
BEGIN:DAYLIGHT
TZOFFSETFROM:+1000
TZOFFSETTO:+1100
TZNAME:AEDT
DTSTART:20251004T160000
END:DAYLIGHT
BEGIN:STANDARD
TZOFFSETFROM:+1100
TZOFFSETTO:+1000
TZNAME:AEST
DTSTART:20260404T160000
END:STANDARD
BEGIN:DAYLIGHT
TZOFFSETFROM:+1000
TZOFFSETTO:+1100
TZNAME:AEDT
DTSTART:20261003T160000
END:DAYLIGHT
BEGIN:STANDARD
TZOFFSETFROM:+1100
TZOFFSETTO:+1000
TZNAME:AEST
DTSTART:20270403T160000
END:STANDARD
BEGIN:DAYLIGHT
TZOFFSETFROM:+1000
TZOFFSETTO:+1100
TZNAME:AEDT
DTSTART:20271002T160000
END:DAYLIGHT
END:VTIMEZONE
BEGIN:VEVENT
DTSTART;TZID=Australia/Hobart:20260812T190000
DTEND;TZID=Australia/Hobart:20260812T220000
DTSTAMP:20260419T221612
CREATED:20260416T024346Z
LAST-MODIFIED:20260416T024346Z
UID:10000373-1786561200-1786572000@www.soc.tas.edu.au
SUMMARY:Hadestown: Teen Edition
DESCRIPTION:Join us for the Seior School Production of Hadestown: Teen Edition. \nFeaturing a cast of 30 talented students\, the production will run fromWednesday 12 August to Saturday 15 August and promises a powerful theatrical experience combining contemporary folk\, jazz and blues-inspired music with a timeless myth. \nHadestown retells the ancient Greek story of Orpheus and Eurydice. When Eurydice is drawn into the industrial underworld ruled by the powerful Hades\, the young musician Orpheus embarks on a courageous journey to bring her back. Along the way\, audiences encounter the complex relationship between Hades and Persephone\, as the story explores themes of love\, hope\, trust and the courage to challenge fate. \nFirst created by singer-songwriter Anaïs Mitchell\, Hadestown has become one of the most celebrated musicals of recent years\, winning multiple Tony Awards and captivating audiences around the world. The musical recently enjoyed a hugely successful season in Melbourne\, further cementing its popularity with Australian audiences. \nThe Teen Edition adaptation allows young performers to take on the musical’s rich characters and challenging score while preserving the heart and energy that have made the show such a global success. It provides students with an opportunity to tackle sophisticated storytelling and music while collaborating as an ensemble. \nAudiences can expect striking music\, atmospheric storytelling and an engaging interpretation of a classic myth performed by the next generation of young performers. \n  \nBook Tickets\n  \n 
URL:https://www.soc.tas.edu.au/scotch-oakburn-college-event/hadestown-teen-edition/2026-08-12/
LOCATION:Horton Auditorium\, 85 Penquite Road\, Newstead\, Tasmania\, 7250
CATEGORIES:College event
ATTACH;FMTTYPE=image/jpeg:https://www.soc.tas.edu.au/wp-content/uploads/hadestown-teen-edition.jpg
END:VEVENT
BEGIN:VEVENT
DTSTART;TZID=Australia/Hobart:20260813T190000
DTEND;TZID=Australia/Hobart:20260813T220000
DTSTAMP:20260419T221612
CREATED:20260416T024346Z
LAST-MODIFIED:20260416T024346Z
UID:10000374-1786647600-1786658400@www.soc.tas.edu.au
SUMMARY:Hadestown: Teen Edition
DESCRIPTION:Join us for the Seior School Production of Hadestown: Teen Edition. \nFeaturing a cast of 30 talented students\, the production will run fromWednesday 12 August to Saturday 15 August and promises a powerful theatrical experience combining contemporary folk\, jazz and blues-inspired music with a timeless myth. \nHadestown retells the ancient Greek story of Orpheus and Eurydice. When Eurydice is drawn into the industrial underworld ruled by the powerful Hades\, the young musician Orpheus embarks on a courageous journey to bring her back. Along the way\, audiences encounter the complex relationship between Hades and Persephone\, as the story explores themes of love\, hope\, trust and the courage to challenge fate. \nFirst created by singer-songwriter Anaïs Mitchell\, Hadestown has become one of the most celebrated musicals of recent years\, winning multiple Tony Awards and captivating audiences around the world. The musical recently enjoyed a hugely successful season in Melbourne\, further cementing its popularity with Australian audiences. \nThe Teen Edition adaptation allows young performers to take on the musical’s rich characters and challenging score while preserving the heart and energy that have made the show such a global success. It provides students with an opportunity to tackle sophisticated storytelling and music while collaborating as an ensemble. \nAudiences can expect striking music\, atmospheric storytelling and an engaging interpretation of a classic myth performed by the next generation of young performers. \n  \nBook Tickets\n  \n 
URL:https://www.soc.tas.edu.au/scotch-oakburn-college-event/hadestown-teen-edition/2026-08-13/
LOCATION:Horton Auditorium\, 85 Penquite Road\, Newstead\, Tasmania\, 7250
CATEGORIES:College event
ATTACH;FMTTYPE=image/jpeg:https://www.soc.tas.edu.au/wp-content/uploads/hadestown-teen-edition.jpg
END:VEVENT
BEGIN:VEVENT
DTSTART;TZID=Australia/Hobart:20260814T190000
DTEND;TZID=Australia/Hobart:20260814T220000
DTSTAMP:20260419T221612
CREATED:20260416T024346Z
LAST-MODIFIED:20260416T024346Z
UID:10000375-1786734000-1786744800@www.soc.tas.edu.au
SUMMARY:Hadestown: Teen Edition
DESCRIPTION:Join us for the Seior School Production of Hadestown: Teen Edition. \nFeaturing a cast of 30 talented students\, the production will run fromWednesday 12 August to Saturday 15 August and promises a powerful theatrical experience combining contemporary folk\, jazz and blues-inspired music with a timeless myth. \nHadestown retells the ancient Greek story of Orpheus and Eurydice. When Eurydice is drawn into the industrial underworld ruled by the powerful Hades\, the young musician Orpheus embarks on a courageous journey to bring her back. Along the way\, audiences encounter the complex relationship between Hades and Persephone\, as the story explores themes of love\, hope\, trust and the courage to challenge fate. \nFirst created by singer-songwriter Anaïs Mitchell\, Hadestown has become one of the most celebrated musicals of recent years\, winning multiple Tony Awards and captivating audiences around the world. The musical recently enjoyed a hugely successful season in Melbourne\, further cementing its popularity with Australian audiences. \nThe Teen Edition adaptation allows young performers to take on the musical’s rich characters and challenging score while preserving the heart and energy that have made the show such a global success. It provides students with an opportunity to tackle sophisticated storytelling and music while collaborating as an ensemble. \nAudiences can expect striking music\, atmospheric storytelling and an engaging interpretation of a classic myth performed by the next generation of young performers. \n  \nBook Tickets\n  \n 
URL:https://www.soc.tas.edu.au/scotch-oakburn-college-event/hadestown-teen-edition/2026-08-14/
LOCATION:Horton Auditorium\, 85 Penquite Road\, Newstead\, Tasmania\, 7250
CATEGORIES:College event
ATTACH;FMTTYPE=image/jpeg:https://www.soc.tas.edu.au/wp-content/uploads/hadestown-teen-edition.jpg
END:VEVENT
BEGIN:VEVENT
DTSTART;TZID=Australia/Hobart:20260815T110000
DTEND;TZID=Australia/Hobart:20260815T140000
DTSTAMP:20260419T221612
CREATED:20260416T024346Z
LAST-MODIFIED:20260416T024346Z
UID:10000376-1786791600-1786802400@www.soc.tas.edu.au
SUMMARY:Hadestown: Teen Edition
DESCRIPTION:Join us for the Seior School Production of Hadestown: Teen Edition. \nFeaturing a cast of 30 talented students\, the production will run fromWednesday 12 August to Saturday 15 August and promises a powerful theatrical experience combining contemporary folk\, jazz and blues-inspired music with a timeless myth. \nHadestown retells the ancient Greek story of Orpheus and Eurydice. When Eurydice is drawn into the industrial underworld ruled by the powerful Hades\, the young musician Orpheus embarks on a courageous journey to bring her back. Along the way\, audiences encounter the complex relationship between Hades and Persephone\, as the story explores themes of love\, hope\, trust and the courage to challenge fate. \nFirst created by singer-songwriter Anaïs Mitchell\, Hadestown has become one of the most celebrated musicals of recent years\, winning multiple Tony Awards and captivating audiences around the world. The musical recently enjoyed a hugely successful season in Melbourne\, further cementing its popularity with Australian audiences. \nThe Teen Edition adaptation allows young performers to take on the musical’s rich characters and challenging score while preserving the heart and energy that have made the show such a global success. It provides students with an opportunity to tackle sophisticated storytelling and music while collaborating as an ensemble. \nAudiences can expect striking music\, atmospheric storytelling and an engaging interpretation of a classic myth performed by the next generation of young performers. \n  \nBook Tickets\n  \n 
URL:https://www.soc.tas.edu.au/scotch-oakburn-college-event/hadestown-teen-edition/2026-08-15/1/
LOCATION:Horton Auditorium\, 85 Penquite Road\, Newstead\, Tasmania\, 7250
CATEGORIES:College event
ATTACH;FMTTYPE=image/jpeg:https://www.soc.tas.edu.au/wp-content/uploads/hadestown-teen-edition.jpg
END:VEVENT
BEGIN:VEVENT
DTSTART;TZID=Australia/Hobart:20260815T170000
DTEND;TZID=Australia/Hobart:20260815T200000
DTSTAMP:20260419T221612
CREATED:20260416T024346Z
LAST-MODIFIED:20260416T024346Z
UID:10000377-1786813200-1786824000@www.soc.tas.edu.au
SUMMARY:Hadestown: Teen Edition
DESCRIPTION:Join us for the Seior School Production of Hadestown: Teen Edition. \nFeaturing a cast of 30 talented students\, the production will run fromWednesday 12 August to Saturday 15 August and promises a powerful theatrical experience combining contemporary folk\, jazz and blues-inspired music with a timeless myth. \nHadestown retells the ancient Greek story of Orpheus and Eurydice. When Eurydice is drawn into the industrial underworld ruled by the powerful Hades\, the young musician Orpheus embarks on a courageous journey to bring her back. Along the way\, audiences encounter the complex relationship between Hades and Persephone\, as the story explores themes of love\, hope\, trust and the courage to challenge fate. \nFirst created by singer-songwriter Anaïs Mitchell\, Hadestown has become one of the most celebrated musicals of recent years\, winning multiple Tony Awards and captivating audiences around the world. The musical recently enjoyed a hugely successful season in Melbourne\, further cementing its popularity with Australian audiences. \nThe Teen Edition adaptation allows young performers to take on the musical’s rich characters and challenging score while preserving the heart and energy that have made the show such a global success. It provides students with an opportunity to tackle sophisticated storytelling and music while collaborating as an ensemble. \nAudiences can expect striking music\, atmospheric storytelling and an engaging interpretation of a classic myth performed by the next generation of young performers. \n  \nBook Tickets\n  \n 
URL:https://www.soc.tas.edu.au/scotch-oakburn-college-event/hadestown-teen-edition/2026-08-15/2/
LOCATION:Horton Auditorium\, 85 Penquite Road\, Newstead\, Tasmania\, 7250
CATEGORIES:College event
ATTACH;FMTTYPE=image/jpeg:https://www.soc.tas.edu.au/wp-content/uploads/hadestown-teen-edition.jpg
END:VEVENT
END:VCALENDAR